BEGIN:VCALENDAR
VERSION:2.0
PRODID:-//eventon.com NONSGML v1.0//EN
CALSCALE:GREGORIAN
METHOD:PUBLISH
BEGIN:VEVENT
UID:69e5e24e3c160
DTSTAMP:20260420T082238Z
DTSTART:20260203T230000Z
DTEND:20260204T030000Z
LOCATION:The Wharf at Sunset Walk 3274 Margaritaville Blvd.
SUMMARY:Dennis Haklar
DESCRIPTION:Enjoy live music by Dennis Haklar while you dine at The Wharf.\
 nhttps://sunsetwalk.com/entertainment/dennis-haklar-the-wharf/var/ri-10.l-L
 1
URL:https://sunsetwalk.com/entertainment/dennis-haklar-the-wharf/var/ri-10.l-L1
END:VEVENT
END:VCALENDAR