BEGIN:VCALENDAR
VERSION:2.0
PRODID:-//eventon.com NONSGML v1.0//EN
CALSCALE:GREGORIAN
METHOD:PUBLISH
BEGIN:VEVENT
UID:69e5e1ca39696
DTSTAMP:20260420T082026Z
DTSTART:20260325T220000Z
DTEND:20260326T020000Z
LOCATION:The Wharf at Sunset Walk 3274 Margaritaville Blvd.
SUMMARY:Mike Folds
DESCRIPTION:Enjoy live music by Mike Folds while you dine at The Wharf at S
 unset Walk.\nhttps://sunsetwalk.com/entertainment/mike-folds-the-wharf/var/
 ri-2.l-L1
URL:https://sunsetwalk.com/entertainment/mike-folds-the-wharf/var/ri-2.l-L1
END:VEVENT
END:VCALENDAR