BEGIN:VCALENDAR
VERSION:2.0
PRODID:-//eventon.com NONSGML v1.0//EN
CALSCALE:GREGORIAN
METHOD:PUBLISH
BEGIN:VEVENT
UID:69e73a266721d
DTSTAMP:20260421T084942Z
DTSTART:20240426T230000Z
DTEND:20240427T033000Z
LOCATION:Promenade Plaza Stage 3251 Margaritaville Blvd
SUMMARY:Astara
DESCRIPTION:Enjoy live music by Astara on the Promenade Plaza Stage at Suns
 et Walk.\nhttps://sunsetwalk.com/entertainment/astara-sunset-live/
URL:https://sunsetwalk.com/entertainment/astara-sunset-live/
END:VEVENT
END:VCALENDAR