BEGIN:VCALENDAR
VERSION:2.0
PRODID:-//eventon.com NONSGML v1.0//EN
CALSCALE:GREGORIAN
METHOD:PUBLISH
BEGIN:VEVENT
UID:69e5f632a1994
DTSTAMP:20260420T094730Z
DTSTART:20250315T230000Z
DTEND:20250316T031500Z
LOCATION:Promenade Plaza Stage 3251 Margaritaville Blvd
SUMMARY:Blue Stone Circle
DESCRIPTION:Enjoy live music by Blue Stone Circle on the Promenade Plaza St
 age at Sunset Walk.\nhttps://sunsetwalk.com/entertainment/blue-stone-circle
 -sunset-live/var/ri-1.l-L1
URL:https://sunsetwalk.com/entertainment/blue-stone-circle-sunset-live/var/ri-1.l-L1
END:VEVENT
END:VCALENDAR