BEGIN:VCALENDAR
VERSION:2.0
PRODID:-//eventon.com NONSGML v1.0//EN
CALSCALE:GREGORIAN
METHOD:PUBLISH
BEGIN:VEVENT
UID:69e9dd6a70f32
DTSTAMP:20260423T085050Z
DTSTART:20260421T220000Z
DTEND:20260422T020000Z
LOCATION:Promenade Plaza Stage 3251 Margaritaville Blvd
SUMMARY:Jason Link
DESCRIPTION:Enjoy live music by Jason Link on the Promenade Plaza Stage at 
 Sunset Walk.\nhttps://sunsetwalk.com/entertainment/jason-link-sunset-live/
URL:https://sunsetwalk.com/entertainment/jason-link-sunset-live/
END:VEVENT
END:VCALENDAR