BEGIN:VCALENDAR
VERSION:2.0
PRODID:-//eventon.com NONSGML v1.0//EN
CALSCALE:GREGORIAN
METHOD:PUBLISH
BEGIN:VEVENT
UID:69e74dfa36f2a
DTSTAMP:20260421T101418Z
DTSTART:20250111T003000Z
DTEND:20250111T043000Z
LOCATION:Promenade Plaza Stage 3251 Margaritaville Blvd
SUMMARY:Pacific Rush
DESCRIPTION:Enjoy live music by Pacific Rush on the Promenade Plaza Stage a
 t Sunset Walk.\nhttps://sunsetwalk.com/entertainment/pacific-rush-sunset-li
 ve/
URL:https://sunsetwalk.com/entertainment/pacific-rush-sunset-live/
END:VEVENT
END:VCALENDAR