BEGIN:VCALENDAR
VERSION:2.0
PRODID:-//eventon.com NONSGML v1.0//EN
CALSCALE:GREGORIAN
METHOD:PUBLISH
BEGIN:VEVENT
UID:69e5f63e4ef0d
DTSTAMP:20260420T094742Z
DTSTART:20260530T230000Z
DTEND:20260531T031500Z
LOCATION:Promenade Plaza Stage 3251 Margaritaville Blvd
SUMMARY:2 AM
DESCRIPTION:Enjoy live music by 2 AM on the Promenade Plaza Stage at Sunset
  Walk.\nhttps://sunsetwalk.com/entertainment/2-am-sunset-live/
URL:https://sunsetwalk.com/entertainment/2-am-sunset-live/
END:VEVENT
END:VCALENDAR