BEGIN:VCALENDAR
VERSION:2.0
PRODID:-//eventon.com NONSGML v1.0//EN
CALSCALE:GREGORIAN
METHOD:PUBLISH
BEGIN:VEVENT
UID:69e74cd3d2e6b
DTSTAMP:20260421T100923Z
DTSTART:20260602T230000Z
DTEND:20260603T030000Z
LOCATION:Euphoria Lounge 8000 Fins Up Circle
SUMMARY:Allie Sawicki
DESCRIPTION:Enjoy live music by Allie Sawicki while you dine in paradise at
  Euphoria at Margaritaville Resort Orlando\,  next to the Promenade at Suns
 et Walk.\nhttps://sunsetwalk.com/entertainment/allie-sawicki-euphoria/var/r
 i-2.l-L1
URL:https://sunsetwalk.com/entertainment/allie-sawicki-euphoria/var/ri-2.l-L1
END:VEVENT
END:VCALENDAR