BEGIN:VCALENDAR
VERSION:2.0
PRODID:-//eventon.com NONSGML v1.0//EN
CALSCALE:GREGORIAN
METHOD:PUBLISH
BEGIN:VEVENT
UID:69ece95c67314
DTSTAMP:20260425T161836Z
DTSTART:20250326T230000Z
DTEND:20250327T030000Z
LOCATION:Euphoria Lounge 8000 Fins Up Circle
SUMMARY:Aaron Lightnin’
DESCRIPTION:Enjoy live music by Aaron Lightnin’ while you dine in paradis
 e at Euphoria Fish House at Margaritaville Resort Orlando\,  next to the Pr
 omenade at Sunset Walk.\nhttps://sunsetwalk.com/entertainment/aaron-lightni
 n-euphoria/var/ri-1.l-L1
URL:https://sunsetwalk.com/entertainment/aaron-lightnin-euphoria/var/ri-1.l-L1
END:VEVENT
END:VCALENDAR