BEGIN:VCALENDAR
VERSION:2.0
PRODID:-//eventon.com NONSGML v1.0//EN
CALSCALE:GREGORIAN
METHOD:PUBLISH
BEGIN:VEVENT
UID:69eb3cec81897
DTSTAMP:20260424T095036Z
DTSTART:20260525T230000Z
DTEND:20260526T030000Z
LOCATION:Euphoria Lounge 8000 Fins Up Circle
SUMMARY:Thomas Watkins
DESCRIPTION:Enjoy live music by Thomas Watkins while you dine in paradise a
 t Euphoria Fish House at Margaritaville Resort Orlando\,  next to the Prome
 nade at Sunset Walk.\nhttps://sunsetwalk.com/entertainment/thomas-watkins-e
 uphoria/var/ri-1.l-L1
URL:https://sunsetwalk.com/entertainment/thomas-watkins-euphoria/var/ri-1.l-L1
END:VEVENT
END:VCALENDAR