BEGIN:VCALENDAR
VERSION:2.0
PRODID:-//eventon.com NONSGML v1.0//EN
CALSCALE:GREGORIAN
METHOD:PUBLISH
BEGIN:VEVENT
UID:69e8101e5a350
DTSTAMP:20260422T000238Z
DTSTART:20260516T170000Z
DTEND:20260516T210000Z
LOCATION:Salty Rim Bar &amp; Grill 8000 Fins Up Circle
SUMMARY:Tim Hamlin
DESCRIPTION:Enjoy live music by Tim Hamlin while you sit back\,  sip\,  and
  savor at Salty Rim Bar &amp; Grill at Margaritaville Resort Orlando\,  nex
 t to the Promenade at Sunset Walk.\nhttps://sunsetwalk.com/entertainment/ti
 m-hamlin-salty-rim/var/ri-5.l-L1
URL:https://sunsetwalk.com/entertainment/tim-hamlin-salty-rim/var/ri-5.l-L1
END:VEVENT
END:VCALENDAR