BEGIN:VCALENDAR
VERSION:2.0
PRODID:-//eventon.com NONSGML v1.0//EN
CALSCALE:GREGORIAN
METHOD:PUBLISH
BEGIN:VEVENT
UID:69e9e153b5e7e
DTSTAMP:20260423T090731Z
DTSTART:20260426T170000Z
DTEND:20260426T210000Z
LOCATION:Salty Rim Bar &amp; Grill 8000 Fins Up Circle
SUMMARY:Hugh Huggins
DESCRIPTION:Enjoy live music by Hugh Huggins while you sit back\,  sip\,  a
 nd savor at Salty Rim Bar &amp; Grill at Margaritaville Resort Orlando\,  n
 ext to the Promenade at Sunset Walk.\nhttps://sunsetwalk.com/entertainment/
 hugh-higgins-salty-rim/var/ri-6.l-L1
URL:https://sunsetwalk.com/entertainment/hugh-higgins-salty-rim/var/ri-6.l-L1
END:VEVENT
END:VCALENDAR