BEGIN:VCALENDAR
VERSION:2.0
PRODID:-//eventon.com NONSGML v1.0//EN
CALSCALE:GREGORIAN
METHOD:PUBLISH
BEGIN:VEVENT
UID:69ea39a013a93
DTSTAMP:20260423T152416Z
DTSTART:20260111T170000Z
DTEND:20260111T210000Z
LOCATION:Salty Rim Bar &amp; Grill 8000 Fins Up Circle
SUMMARY:Dan Kane
DESCRIPTION:Enjoy live music by Dan Kane while you sit back\,  sip\,  and s
 avor at Salty Rim Bar &amp; Grill at Margaritaville Resort Orlando\,  next 
 to the Promenade at Sunset Walk.\nhttps://sunsetwalk.com/entertainment/dan-
 kane-salty-rim/
URL:https://sunsetwalk.com/entertainment/dan-kane-salty-rim/
END:VEVENT
END:VCALENDAR