BEGIN:VCALENDAR
VERSION:2.0
PRODID:-//eventon.com NONSGML v1.0//EN
CALSCALE:GREGORIAN
METHOD:PUBLISH
BEGIN:VEVENT
UID:69e60d209442c
DTSTAMP:20260420T112520Z
DTSTART:20260108T000000Z
DTEND:20260108T040000Z
LOCATION:Euphoria Lounge 8000 Fins Up Circle
SUMMARY:Rusty Wilmot
DESCRIPTION:Enjoy live music by Rusty Wilmot while you dine in paradise at 
 Euphoria at Margaritaville Resort Orlando\,  next to the Promenade at Sunse
 t Walk.\nhttps://sunsetwalk.com/entertainment/rusty-wilmot-euphoria/
URL:https://sunsetwalk.com/entertainment/rusty-wilmot-euphoria/
END:VEVENT
END:VCALENDAR