BEGIN:VCALENDAR
VERSION:2.0
PRODID:-//eventon.com NONSGML v1.0//EN
CALSCALE:GREGORIAN
METHOD:PUBLISH
BEGIN:VEVENT
UID:69e5f82ec28fc
DTSTAMP:20260420T095558Z
DTSTART:20260423T220000Z
DTEND:20260424T010000Z
LOCATION:Estefan Kitchen Orlando 3269 Margaritaville Blvd
SUMMARY:Jose Live Piano
DESCRIPTION:Enjoy live piano music featuring Jose while you dine and dance 
 at Estefan Kitchen Orlando.\nhttps://sunsetwalk.com/entertainment/jose-live
 -piano-estefan-kitchen/var/ri-7.l-L1
URL:https://sunsetwalk.com/entertainment/jose-live-piano-estefan-kitchen/var/ri-7.l-L1
END:VEVENT
END:VCALENDAR