BEGIN:VCALENDAR
VERSION:2.0
PRODID:-//eventon.com NONSGML v1.0//EN
CALSCALE:GREGORIAN
METHOD:PUBLISH
BEGIN:VEVENT
UID:69e5f4c9d8502
DTSTAMP:20260420T094129Z
DTSTART:20250202T230000Z
DTEND:20250203T020000Z
LOCATION:Estefan Kitchen Orlando 3269 Margaritaville Blvd
SUMMARY:Manolo & Starlyn Dueling Pianos
DESCRIPTION:Enjoy live music featuring Manolo &amp; Starlyn with “Dueling
  Pianos” while you dine and dance at Estefan Kitchen Orlando.\nhttps://su
 nsetwalk.com/entertainment/estefan-dueling-pianos/
URL:https://sunsetwalk.com/entertainment/estefan-dueling-pianos/
END:VEVENT
END:VCALENDAR