BEGIN:VCALENDAR
VERSION:2.0
PRODID:-//eventon.com NONSGML v1.0//EN
CALSCALE:GREGORIAN
METHOD:PUBLISH
BEGIN:VEVENT
UID:69e5f4a74ba36
DTSTAMP:20260420T094055Z
DTSTART:20241124T170000Z
DTEND:20241124T200000Z
LOCATION:Estefan Kitchen Orlando 3269 Margaritaville Blvd
SUMMARY:Latin Mix Brunch
DESCRIPTION:Join Estefan Kitchen Orlando for its weekend Latin Mix Brunch f
 eaturing live music by Kenny &amp; Tina.\nhttps://sunsetwalk.com/entertainm
 ent/latin-mix-brunch/
URL:https://sunsetwalk.com/entertainment/latin-mix-brunch/
END:VEVENT
END:VCALENDAR