BEGIN:VCALENDAR
VERSION:2.0
PRODID:-//eventon.com NONSGML v1.0//EN
CALSCALE:GREGORIAN
METHOD:PUBLISH
BEGIN:VEVENT
UID:69e5c42e84c4d
DTSTAMP:20260420T061406Z
DTSTART:20250428T220000Z
DTEND:20250429T020000Z
LOCATION:Promenade Plaza Stage 3251 Margaritaville Blvd
SUMMARY:Stephen Korka
DESCRIPTION:Enjoy live music by Stephen Korka on the Promenade Plaza Stage 
 at Sunset Walk.\nhttps://sunsetwalk.com/entertainment/stephen-korka-sunset-
 live/
URL:https://sunsetwalk.com/entertainment/stephen-korka-sunset-live/
END:VEVENT
END:VCALENDAR