BEGIN:VCALENDAR
VERSION:2.0
PRODID:-//eventon.com NONSGML v1.0//EN
CALSCALE:GREGORIAN
METHOD:PUBLISH
BEGIN:VEVENT
UID:69e887804d37d
DTSTAMP:20260422T083200Z
DTSTART:20260505T190000Z
DTEND:20260506T030000Z
LOCATION:Promenade Plaza Stage 3251 Margaritaville Blvd
SUMMARY:DJ Leony
DESCRIPTION:DJ Leony performs live during Sunday-Latin-Sunday on the Promen
 ade Plaza Stage.\nhttps://sunsetwalk.com/entertainment/dj-leony-sunset-live
 /var/ri-1.l-L1
URL:https://sunsetwalk.com/entertainment/dj-leony-sunset-live/var/ri-1.l-L1
END:VEVENT
END:VCALENDAR