BEGIN:VCALENDAR
VERSION:2.0
PRODID:-//eventon.com NONSGML v1.0//EN
CALSCALE:GREGORIAN
METHOD:PUBLISH
BEGIN:VEVENT
UID:69e7368475bc1
DTSTAMP:20260421T083412Z
DTSTART:20260530T223000Z
DTEND:20260531T023000Z
LOCATION:The Wharf at Sunset Walk 3274 Margaritaville Blvd.
SUMMARY:Pavani’s Band
DESCRIPTION:Enjoy live music by Pavani’s Band while you dine at The Wharf
 .\nhttps://sunsetwalk.com/entertainment/pavanis-band-the-wharf/
URL:https://sunsetwalk.com/entertainment/pavanis-band-the-wharf/
END:VEVENT
END:VCALENDAR