BEGIN:VCALENDAR
VERSION:2.0
PRODID:-//eventon.com NONSGML v1.0//EN
CALSCALE:GREGORIAN
METHOD:PUBLISH
BEGIN:VEVENT
UID:69e9eefb0b0c6
DTSTAMP:20260423T100547Z
DTSTART:20260627T210000Z
DTEND:20260628T010000Z
LOCATION:On Vacation 8000 Fins Up Circle
SUMMARY:Big Ron Betts
DESCRIPTION:Enjoy live music by Big Ron Betts at On Vacation\,  located on 
 the first floor of Margaritaville Resort Orlando\,  next to the Promenade a
 t Sunset Walk.\nhttps://sunsetwalk.com/entertainment/big-ron-betts-on-vacat
 ion/var/ri-1.l-L1
URL:https://sunsetwalk.com/entertainment/big-ron-betts-on-vacation/var/ri-1.l-L1
END:VEVENT
END:VCALENDAR