BEGIN:VCALENDAR
VERSION:2.0
PRODID:-//eventon.com NONSGML v1.0//EN
CALSCALE:GREGORIAN
METHOD:PUBLISH
BEGIN:VEVENT
UID:69ec97eae3323
DTSTAMP:20260425T103106Z
DTSTART:20260521T220000Z
DTEND:20260522T020000Z
LOCATION:Promenade Plaza Stage 3251 Margaritaville Blvd
SUMMARY:Jen and Dave
DESCRIPTION:Enjoy live music by Jen and Dave on the Promenade Plaza Stage a
 t Sunset Walk.\nhttps://sunsetwalk.com/entertainment/jen-and-dave/var/ri-3.
 l-L1
URL:https://sunsetwalk.com/entertainment/jen-and-dave/var/ri-3.l-L1
END:VEVENT
END:VCALENDAR