BEGIN:VCALENDAR
VERSION:2.0
PRODID:-//eventon.com NONSGML v1.0//EN
CALSCALE:GREGORIAN
METHOD:PUBLISH
BEGIN:VEVENT
UID:69e74e377710c
DTSTAMP:20260421T101519Z
DTSTART:20260103T170000Z
DTEND:20260103T210000Z
LOCATION:Salty Rim Bar &amp; Grill 8000 Fins Up Circle
SUMMARY:DJ Rick GZ
DESCRIPTION:DJ Rick GZ performs live while you sit back\,  sip\,  and savor
  at Salty Rim Bar &amp; Grill at Margaritaville Resort Orlando\,  next to t
 he Promenade at Sunset Walk.\nhttps://sunsetwalk.com/entertainment/dj-rick-
 gz-salty-rim/
URL:https://sunsetwalk.com/entertainment/dj-rick-gz-salty-rim/
END:VEVENT
END:VCALENDAR