BEGIN:VCALENDAR
VERSION:2.0
PRODID:-//eventon.com NONSGML v1.0//EN
CALSCALE:GREGORIAN
METHOD:PUBLISH
BEGIN:VEVENT
UID:69e73680bc8ee
DTSTAMP:20260421T083408Z
DTSTART:20260425T173000Z
DTEND:20260425T213000Z
LOCATION:Mango Moon Bar &amp; Grill 3151 Sunset Walk Drive
SUMMARY:Tim Hamlin
DESCRIPTION:Enjoy live music by Tim Hamlin at Mango Moon Bar &amp; Grill wh
 en you stay at Embassy Suites by Hilton Orlando Sunset Walk. The tropical â
 €śbeachâ€ť barâ€™s stage comes alive select Saturday afternoons.\nhttps://s
 unsetwalk.com/entertainment/tim-hamlin-mango-moon/var/ri-4.l-L1
URL:https://sunsetwalk.com/entertainment/tim-hamlin-mango-moon/var/ri-4.l-L1
END:VEVENT
END:VCALENDAR