BEGIN:VCALENDAR
VERSION:2.0
PRODID:-//eventon.com NONSGML v1.0//EN
CALSCALE:GREGORIAN
METHOD:PUBLISH
BEGIN:VEVENT
UID:69e74b69b0a11
DTSTAMP:20260421T100321Z
DTSTART:20260111T160000Z
DTEND:20260111T190000Z
LOCATION:Promenade Plaza Stage 3251 Margaritaville Blvd
SUMMARY:DJ Jennifer
DESCRIPTION:DJ Jennifer performs live on the Promenade Plaza Stage at Sunse
 t Walk.\nhttps://sunsetwalk.com/entertainment/dj-jennifer-sunset-live/
URL:https://sunsetwalk.com/entertainment/dj-jennifer-sunset-live/
END:VEVENT
END:VCALENDAR