BEGIN:VCALENDAR
VERSION:2.0
PRODID:-//eventon.com NONSGML v1.0//EN
CALSCALE:GREGORIAN
METHOD:PUBLISH
BEGIN:VEVENT
UID:69e5e1c2e194a
DTSTAMP:20260420T082018Z
DTSTART:20260206T173000Z
DTEND:20260206T213000Z
LOCATION:Mango Moon Bar &amp; Grill 3151 Sunset Walk Drive
SUMMARY:Sean Manvell
DESCRIPTION:Enjoy live music by Sean Manvell at Mango Moon Bar &amp; Grill 
 when you stay at Embassy Suites by Hilton Orlando Sunset Walk. The tropical
  “beach” bar’s stage comes alive select Saturday afternoons.\nhttps:/
 /sunsetwalk.com/entertainment/sean-manvell-mango-moon/var/ri-1.l-L1
URL:https://sunsetwalk.com/entertainment/sean-manvell-mango-moon/var/ri-1.l-L1
END:VEVENT
END:VCALENDAR