BEGIN:VCALENDAR
VERSION:2.0
PRODID:-//eventon.com NONSGML v1.0//EN
CALSCALE:GREGORIAN
METHOD:PUBLISH
BEGIN:VEVENT
UID:69e60d39a678e
DTSTAMP:20260420T112545Z
DTSTART:20260206T170000Z
DTEND:20260206T210000Z
LOCATION:Salty Rim Bar &amp; Grill 8000 Fins Up Circle
SUMMARY:Live DJ
DESCRIPTION:Enjoy live music while you sit back\,  sip\,  and savor at Salt
 y Rim Bar &amp; Grill at Margaritaville Resort Orlando\,  next to the Prome
 nade at Sunset Walk.\nhttps://sunsetwalk.com/entertainment/live-dj-tba-salt
 y-rim/
URL:https://sunsetwalk.com/entertainment/live-dj-tba-salty-rim/
END:VEVENT
END:VCALENDAR