BEGIN:VCALENDAR
VERSION:2.0
PRODID:-//eventon.com NONSGML v1.0//EN
CALSCALE:GREGORIAN
METHOD:PUBLISH
BEGIN:VEVENT
UID:69e5e1cf10da6
DTSTAMP:20260420T082031Z
DTSTART:20260213T170000Z
DTEND:20260213T210000Z
LOCATION:Salty Rim Bar &amp; Grill 8000 Fins Up Circle
SUMMARY:Live DJ
DESCRIPTION:Enjoy live music while you sit back\,  sip\,  and savor at Salt
 y Rim Bar &amp; Grill at Margaritaville Resort Orlando\,  next to the Prome
 nade at Sunset Walk.\nhttps://sunsetwalk.com/entertainment/live-dj-tba-salt
 y-rim/var/ri-2.l-L1
URL:https://sunsetwalk.com/entertainment/live-dj-tba-salty-rim/var/ri-2.l-L1
END:VEVENT
END:VCALENDAR