BEGIN:VCALENDAR
VERSION:2.0
PRODID:-//eventon.com NONSGML v1.0//EN
CALSCALE:GREGORIAN
METHOD:PUBLISH
BEGIN:VEVENT
UID:69e5e21ebf17e
DTSTAMP:20260420T082150Z
DTSTART:20260324T170000Z
DTEND:20260324T210000Z
LOCATION:Salty Rim Bar &amp; Grill 8000 Fins Up Circle
SUMMARY:Big Ron Betts
DESCRIPTION:Enjoy live music by Big Ron Betts while you sit back\,  sip\,  
 and savor at Salty Rim Bar &amp; Grill at Margaritaville Resort Orlando\,  
 next to the Promenade at Sunset Walk.\nhttps://sunsetwalk.com/entertainment
 /big-ron-betts-salty-rim/var/ri-1.l-L1
URL:https://sunsetwalk.com/entertainment/big-ron-betts-salty-rim/var/ri-1.l-L1
END:VEVENT
END:VCALENDAR