BEGIN:VCALENDAR
VERSION:2.0
PRODID:-//eventon.com NONSGML v1.0//EN
CALSCALE:GREGORIAN
METHOD:PUBLISH
BEGIN:VEVENT
UID:69ecbcdd98871
DTSTAMP:20260425T130845Z
DTSTART:20260501T170000Z
DTEND:20260501T210000Z
LOCATION:Salty Rim Bar &amp; Grill 8000 Fins Up Circle
SUMMARY:Big Ron Betts
DESCRIPTION:Enjoy live music by Big Ron Betts while you sit back\,  sip\,  
 and savor at Salty Rim Bar &amp; Grill at Margaritaville Resort Orlando\,  
 next to the Promenade at Sunset Walk.\nhttps://sunsetwalk.com/entertainment
 /big-ron-betts-salty-rim/var/ri-2.l-L1
URL:https://sunsetwalk.com/entertainment/big-ron-betts-salty-rim/var/ri-2.l-L1
END:VEVENT
END:VCALENDAR