BEGIN:VCALENDAR
VERSION:2.0
PRODID:-//eventon.com NONSGML v1.0//EN
CALSCALE:GREGORIAN
METHOD:PUBLISH
BEGIN:VEVENT
UID:69e74e0e26f85
DTSTAMP:20260421T101438Z
DTSTART:20260216T170000Z
DTEND:20260216T210000Z
LOCATION:Salty Rim Bar &amp; Grill 8000 Fins Up Circle
SUMMARY:Ashley Picanza
DESCRIPTION:Ashley Picanza performs live while you sit back\,  sip\,  and s
 avor at Salty Rim Bar &amp; Grill at Margaritaville Resort Orlando\,  next 
 to the Promenade at Sunset Walk.\nhttps://sunsetwalk.com/entertainment/ashl
 ey-picanza-salty-rim/
URL:https://sunsetwalk.com/entertainment/ashley-picanza-salty-rim/
END:VEVENT
END:VCALENDAR