BEGIN:VCALENDAR
VERSION:2.0
PRODID:-//eventon.com NONSGML v1.0//EN
CALSCALE:GREGORIAN
METHOD:PUBLISH
BEGIN:VEVENT
UID:69e5f4a730966
DTSTAMP:20260420T094055Z
DTSTART:20260207T170000Z
DTEND:20260207T210000Z
LOCATION:Promenade Plaza Stage 3251 Margaritaville Blvd
SUMMARY:School of Rock
DESCRIPTION:The Promenade at Sunset Walk and School of Rock proudly present
  an electrifying afternoon of live music featuring three bands representing
  School of Rock in Oviedo\,  Winter Park\,  and Palmetto Bay! Get ready for
  high‑energy performances and unforgettable talent as these young musicia
 ns take the stage and showcase their skills.[..]\nhttps://sunsetwalk.com/en
 tertainment/school-of-rock/
URL:https://sunsetwalk.com/entertainment/school-of-rock/
END:VEVENT
END:VCALENDAR