BEGIN:VCALENDAR
VERSION:2.0
PRODID:-//eventon.com NONSGML v1.0//EN
CALSCALE:GREGORIAN
METHOD:PUBLISH
BEGIN:VEVENT
UID:69e4d2e9f1dea
DTSTAMP:20260419T130441Z
DTSTART:20260506T170000Z
DTEND:20260506T210000Z
LOCATION:Salty Rim Bar &amp; Grill 8000 Fins Up Circle
SUMMARY:Maria Salerno
DESCRIPTION:Maria Salerno performs live while you sit back\,  sip\,  and sa
 vor at Salty Rim Bar &amp; Grill at Margaritaville Resort Orlando\,  next t
 o the Promenade at Sunset Walk.\nhttps://sunsetwalk.com/entertainment/maria
 -salerno-salty-rim/
URL:https://sunsetwalk.com/entertainment/maria-salerno-salty-rim/
END:VEVENT
END:VCALENDAR