BEGIN:VCALENDAR
VERSION:2.0
PRODID:-//eventon.com NONSGML v1.0//EN
CALSCALE:GREGORIAN
METHOD:PUBLISH
BEGIN:VEVENT
UID:69e74e37770f7
DTSTAMP:20260421T101519Z
DTSTART:20260508T170000Z
DTEND:20260508T210000Z
LOCATION:Salty Rim Bar &amp; Grill 8000 Fins Up Circle
SUMMARY:Maria Salerno
DESCRIPTION:Maria Salerno performs live while you sit back\,  sip\,  and sa
 vor at Salty Rim Bar &amp; Grill at Margaritaville Resort Orlando\,  next t
 o the Promenade at Sunset Walk.\nhttps://sunsetwalk.com/entertainment/maria
 -salerno-salty-rim/var/ri-1.l-L1
URL:https://sunsetwalk.com/entertainment/maria-salerno-salty-rim/var/ri-1.l-L1
END:VEVENT
END:VCALENDAR