BEGIN:VCALENDAR
VERSION:2.0
PRODID:-//eventon.com NONSGML v1.0//EN
CALSCALE:GREGORIAN
METHOD:PUBLISH
BEGIN:VEVENT
UID:69e7370c94540
DTSTAMP:20260421T083628Z
DTSTART:20260424T210000Z
DTEND:20260425T010000Z
LOCATION:On Vacation 8000 Fins Up Circle
SUMMARY:Troy Haun
DESCRIPTION:Enjoy live music by Troy Haun at On Vacation\,  located on the 
 first floor of Margaritaville Resort Orlando\,  next to the Promenade at Su
 nset Walk.\nhttps://sunsetwalk.com/entertainment/troy-haun-on-vacation/var/
 ri-1.l-L1
URL:https://sunsetwalk.com/entertainment/troy-haun-on-vacation/var/ri-1.l-L1
END:VEVENT
END:VCALENDAR