BEGIN:VCALENDAR
VERSION:2.0
PRODID:-//eventon.com NONSGML v1.0//EN
CALSCALE:GREGORIAN
METHOD:PUBLISH
BEGIN:VEVENT
UID:69eb3f18d2a76
DTSTAMP:20260424T095952Z
DTSTART:20260626T190000Z
DTEND:20260626T230000Z
LOCATION:Margaritaville Resort Orlando Lobby 8000 Fins Up Circle
SUMMARY:Sean Manvell
DESCRIPTION:Enjoy live music by Sean Manvell at Margaritaville Resort Orlan
 do. Join us in the main lobby as it fills with laid-back island sounds that
  carry the afternoon into a lively evening. &nbsp;\nhttps://sunsetwalk.com/
 entertainment/sean-manvell-mro-lobby/var/ri-1.l-L1
URL:https://sunsetwalk.com/entertainment/sean-manvell-mro-lobby/var/ri-1.l-L1
END:VEVENT
END:VCALENDAR