BEGIN:VCALENDAR
VERSION:2.0
PRODID:-//eventon.com NONSGML v1.0//EN
CALSCALE:GREGORIAN
METHOD:PUBLISH
BEGIN:VEVENT
UID:69e74e0e3af02
DTSTAMP:20260421T101438Z
DTSTART:20260612T190000Z
DTEND:20260612T230000Z
LOCATION:Margaritaville Resort Orlando Lobby 8000 Fins Up Circle
SUMMARY:Hugh Huggins
DESCRIPTION:Enjoy live music by Hugh Huggins at Margaritaville Resort Orlan
 do. Join us in the main lobby as it fills with laid-back island sounds that
  carry the afternoon into a lively evening. &nbsp;\nhttps://sunsetwalk.com/
 entertainment/hugh-huggins-mro-lobby/var/ri-2.l-L1
URL:https://sunsetwalk.com/entertainment/hugh-huggins-mro-lobby/var/ri-2.l-L1
END:VEVENT
END:VCALENDAR