BEGIN:VCALENDAR
VERSION:2.0
PRODID:-//eventon.com NONSGML v1.0//EN
CALSCALE:GREGORIAN
METHOD:PUBLISH
BEGIN:VEVENT
UID:69e74ae727a4c
DTSTAMP:20260421T100111Z
DTSTART:20260516T223000Z
DTEND:20260517T023000Z
LOCATION:Margaritaville Resort Orlando Lobby 8000 Fins Up Circle
SUMMARY:TrippTide
DESCRIPTION:Enjoy live music by TrippTide at Margaritaville Resort Orlando.
  Join us in the main lobby as it fills with laid-back island sounds that ca
 rry the afternoon into a lively evening. &nbsp;\nhttps://sunsetwalk.com/ent
 ertainment/tripptide-mro-lobby/var/ri-1.l-L1
URL:https://sunsetwalk.com/entertainment/tripptide-mro-lobby/var/ri-1.l-L1
END:VEVENT
END:VCALENDAR