BEGIN:VCALENDAR
VERSION:2.0
PRODID:-//eventon.com NONSGML v1.0//EN
CALSCALE:GREGORIAN
METHOD:PUBLISH
BEGIN:VEVENT
UID:69e7b8ee3f44c
DTSTAMP:20260421T175038Z
DTSTART:20260424T223000Z
DTEND:20260425T023000Z
LOCATION:Margaritaville Resort Orlando Lobby 8000 Fins Up Circle
SUMMARY:Ashley Picanza
DESCRIPTION:Enjoy live music by Mike Folds at Margaritaville Resort Orlando
 . Join us in the main lobby as it fills with laid-back island sounds that c
 arry the afternoon into a lively evening. &nbsp;\nhttps://sunsetwalk.com/en
 tertainment/ashley-picanza-mro-lobby/var/ri-1.l-L1
URL:https://sunsetwalk.com/entertainment/ashley-picanza-mro-lobby/var/ri-1.l-L1
END:VEVENT
END:VCALENDAR