BEGIN:VCALENDAR
VERSION:2.0
PRODID:-//eventon.com NONSGML v1.0//EN
CALSCALE:GREGORIAN
METHOD:PUBLISH
BEGIN:VEVENT
UID:69e5f4ca3f9ee
DTSTAMP:20260420T094130Z
DTSTART:20260502T223000Z
DTEND:20260503T023000Z
LOCATION:Margaritaville Resort Orlando Lobby 8000 Fins Up Circle
SUMMARY:Giaco PopRock
DESCRIPTION:Enjoy live music by Giaco PopRock at Margaritaville Resort Orla
 ndo. Join us in the main lobby as it fills with laid-back island sounds tha
 t carry the afternoon into a lively evening. &nbsp;\nhttps://sunsetwalk.com
 /entertainment/giaco-poprock-mro-lobby/
URL:https://sunsetwalk.com/entertainment/giaco-poprock-mro-lobby/
END:VEVENT
END:VCALENDAR