BEGIN:VCALENDAR
VERSION:2.0
PRODID:-//eventon.com NONSGML v1.0//EN
CALSCALE:GREGORIAN
METHOD:PUBLISH
BEGIN:VEVENT
UID:69e760d5982ca
DTSTAMP:20260421T113445Z
DTSTART:20260530T190000Z
DTEND:20260530T230000Z
LOCATION:Margaritaville Resort Orlando Lobby 8000 Fins Up Circle
SUMMARY:Jen and Dave
DESCRIPTION:Enjoy live music by Jen and Dave at Margaritaville Resort Orlan
 do. Join us in the main lobby as it fills with laid-back island sounds that
  carry the afternoon into a lively evening. &nbsp;\nhttps://sunsetwalk.com/
 entertainment/jen-and-dave-mro-lobby/
URL:https://sunsetwalk.com/entertainment/jen-and-dave-mro-lobby/
END:VEVENT
END:VCALENDAR