BEGIN:VCALENDAR
VERSION:2.0
PRODID:-//eventon.com NONSGML v1.0//EN
CALSCALE:GREGORIAN
METHOD:PUBLISH
BEGIN:VEVENT
UID:69e739d33308e
DTSTAMP:20260421T084819Z
DTSTART:20260530T180000Z
DTEND:20260530T220000Z
LOCATION:Margaritaville Resort Orlando Lobby 8000 Fins Up Circle
SUMMARY:Maria Salerno
DESCRIPTION:Enjoy live music by Maria Salerno at Margaritaville Resort Orla
 ndo. Join us in the main lobby as it fills with laid-back island sounds tha
 t carry the afternoon into a lively evening. &nbsp;\nhttps://sunsetwalk.com
 /entertainment/maria-salerno-mro-lobby/
URL:https://sunsetwalk.com/entertainment/maria-salerno-mro-lobby/
END:VEVENT
END:VCALENDAR