BEGIN:VCALENDAR
VERSION:2.0
PRODID:-//eventon.com NONSGML v1.0//EN
CALSCALE:GREGORIAN
METHOD:PUBLISH
BEGIN:VEVENT
UID:69e77d8698044
DTSTAMP:20260421T133710Z
DTSTART:20260530T173000Z
DTEND:20260530T213000Z
LOCATION:Mango Moon Bar &amp; Grill 3151 Sunset Walk Drive
SUMMARY:Ashley Picanza
DESCRIPTION:Enjoy live music by Ashley Picanza at Mango Moon Bar &amp; Gril
 l when you stay at Embassy Suites by Hilton Orlando Sunset Walk. The tropic
 al “beach” bar’s stage comes alive select Saturday afternoons.\nhttps
 ://sunsetwalk.com/entertainment/ashley-picanza/
URL:https://sunsetwalk.com/entertainment/ashley-picanza/
END:VEVENT
END:VCALENDAR